BEGIN:VCALENDAR
VERSION:2.0
PRODID:-//Le Souvenir Français Comité de Brive - ECPv6.15.20//NONSGML v1.0//EN
CALSCALE:GREGORIAN
METHOD:PUBLISH
X-ORIGINAL-URL:https://lesouvenirfrancaisbrive.fr
X-WR-CALDESC:Évènements pour Le Souvenir Français Comité de Brive
REFRESH-INTERVAL;VALUE=DURATION:PT1H
X-Robots-Tag:noindex
X-PUBLISHED-TTL:PT1H
BEGIN:VTIMEZONE
TZID:Europe/Paris
BEGIN:DAYLIGHT
TZOFFSETFROM:+0100
TZOFFSETTO:+0200
TZNAME:CEST
DTSTART:20250330T010000
END:DAYLIGHT
BEGIN:STANDARD
TZOFFSETFROM:+0200
TZOFFSETTO:+0100
TZNAME:CET
DTSTART:20251026T010000
END:STANDARD
BEGIN:DAYLIGHT
TZOFFSETFROM:+0100
TZOFFSETTO:+0200
TZNAME:CEST
DTSTART:20260329T010000
END:DAYLIGHT
BEGIN:STANDARD
TZOFFSETFROM:+0200
TZOFFSETTO:+0100
TZNAME:CET
DTSTART:20261025T010000
END:STANDARD
BEGIN:DAYLIGHT
TZOFFSETFROM:+0100
TZOFFSETTO:+0200
TZNAME:CEST
DTSTART:20270328T010000
END:DAYLIGHT
BEGIN:STANDARD
TZOFFSETFROM:+0200
TZOFFSETTO:+0100
TZNAME:CET
DTSTART:20271031T010000
END:STANDARD
END:VTIMEZONE
BEGIN:VEVENT
DTSTART;TZID=Europe/Paris:20260504T160000
DTEND;TZID=Europe/Paris:20260504T163000
DTSTAMP:20260424T172011
CREATED:20260423T192418Z
LAST-MODIFIED:20260423T192418Z
UID:284760-1777910400-1777912200@lesouvenirfrancaisbrive.fr
SUMMARY:Hommage à Edmond MICHELET
DESCRIPTION:Le Lundi 4 mai\, Serge BARCELLINI – Président Général du Souvenir Français – et Luc PLESSIER\, Président national de l’UFAC seront présents à Brive.  \nCérémonie d’hommage devant la stèle Edmond Michelet. Organisé avec la Ville de Brive et la Fraternité Edmond Michelet\, cet hommage unira les autorités locales\, les représentants des associations d’anciens combattants et les jeunes.
URL:https://lesouvenirfrancaisbrive.fr/event/hommage-a-edmond-michelet/
LOCATION:Stèle Edmond Michelet – Place de la Liberté – 19100 BRIVE\, Place de la Liberté\, BRIVE\, CORRÈZE\, 19100\, France
ORGANIZER;CN="Le Souvenir Fran%C3%A7ais - Comit%C3%A9 de BRIVE":MAILTO:lesouvenirfrancaisbrive19@gmail.com
END:VEVENT
END:VCALENDAR